BEGIN:VCALENDAR
VERSION:2.0
PRODID:-//eventon.com NONSGML v1.0//EN
CALSCALE:GREGORIAN
METHOD:PUBLISH
BEGIN:VEVENT
UID:69e5f1f559d7b
DTSTAMP:20260420T092925Z
DTSTART:20221022T190000Z
DTEND:20221023T020000Z
LOCATION:
SUMMARY:90er Party | Samstag\,  22.10.2022 | 18+
DESCRIPTION:90er Party | Samstag\,  22.10.2022 | 18+\nhttps://eventwerk-obk
 .de/events/90er-party-samstag-22-10-2022-18/
URL:https://eventwerk-obk.de/events/90er-party-samstag-22-10-2022-18/
END:VEVENT
END:VCALENDAR